BEGIN:VCALENDAR
VERSION:2.0
PRODID:-//Plone.org//NONSGML plone.app.event//EN
X-WR-TIMEZONE:Europe/Berlin
BEGIN:VEVENT
SUMMARY:Warum Worte Medizin sind - Zwischenmenschliche Kommunikation im Ze
 italter der Digitalisierung
DTSTART;TZID=Europe/Berlin:20220111T140000
DTSTAMP:20260421T124521Z
UID:9508734dcbe94cd5a520833cdccdc14b@www.uni-marburg.de
ATTENDEE;CN="Dr. Eckart von Hirschhausen";ROLE=REQ-PARTICIPANT:Dr. Eckart 
 von Hirschhausen
ATTENDEE;CN="Prof. Dr. Denise Hilfiker-Kleiner";ROLE=REQ-PARTICIPANT:Prof.
  Dr. Denise Hilfiker-Kleiner
ATTENDEE;CN="Prof. Dr. Thomas Nauss";ROLE=REQ-PARTICIPANT:Prof. Dr. Thomas
  Nauss
ATTENDEE;CN="Prof. Dr. Jürgen Schäfer";ROLE=REQ-PARTICIPANT:Prof. Dr. J
 ürgen Schäfer
CREATED:20220107T152954Z
DESCRIPTION:https://www.uni-marburg.de/de/aktuelles/events/1-quartal-2022/
 antrittsvorlesung-hirschhausen\nAntrittsvorlesung Dr. Eckart von Hirschhau
 sen
LAST-MODIFIED:20220110T133549Z
LOCATION:Livestream
URL:https://www.uni-marburg.de/de/aktuelles/events/1-quartal-2022/antritts
 vorlesung-hirschhausen
END:VEVENT
BEGIN:VTIMEZONE
TZID:Europe/Berlin
X-LIC-LOCATION:Europe/Berlin
BEGIN:STANDARD
DTSTART:20211031T020000
TZNAME:CET
TZOFFSETFROM:+0200
TZOFFSETTO:+0100
END:STANDARD
END:VTIMEZONE
END:VCALENDAR
