BEGIN:VCALENDAR
VERSION:2.0
PRODID:-//Plone.org//NONSGML plone.app.event//EN
X-WR-TIMEZONE:Europe/Berlin
BEGIN:VEVENT
SUMMARY:Krieg in der Ukraine: Podiumsdiskussion
DTSTART;TZID=Europe/Berlin:20220302T180000
DTSTAMP:20260421T181516Z
UID:02d139cb2f4c422ebe74b4c6f0ae35aa@www.uni-marburg.de
ATTENDEE;CN="Es diskutieren:";ROLE=REQ-PARTICIPANT:Es diskutieren:
ATTENDEE;CN=;ROLE=REQ-PARTICIPANT:
ATTENDEE;CN="Prof. Dr. Andrea Gawrich";ROLE=REQ-PARTICIPANT:Prof. Dr. Andr
 ea Gawrich
ATTENDEE;CN="Professorin für Politikwissenschaft mit dem Schwerpunkt Inte
 rnationale Integration mit besonderem Bezug auf das Östliche Europa an de
 r Justus-Liebig-Universität Gießen, Vize-Direktorin des Gießener Zentru
 ms Östliches Europa";ROLE=REQ-PARTICIPANT:Professorin für Politikwissens
 chaft mit dem Schwerpunkt Internationale Integration mit besonderem Bezug 
 auf das Östliche Europa an der Justus-Liebig-Universität Gießen, Vize-D
 irektorin des Gießener Zentrums Östliches Europa
ATTENDEE;CN=;ROLE=REQ-PARTICIPANT:
ATTENDEE;CN="Dr. Sabine von Löwis";ROLE=REQ-PARTICIPANT:Dr. Sabine von L
 öwis
ATTENDEE;CN="Leiterin des Forschungsschwerpunkts ^'Konfliktdynamiken und G
 renzregionen^', besonders im Kontext postsowjetischer De-facto-Staaten, am
  Zentrum für Osteuropa- und internationale Studien (ZOiS).";ROLE=REQ-PART
 ICIPANT:Leiterin des Forschungsschwerpunkts "Konfliktdynamiken und Grenzre
 gionen", besonders im Kontext postsowjetischer De-facto-Staaten, am Zentru
 m für Osteuropa- und internationale Studien (ZOiS).
ATTENDEE;CN=;ROLE=REQ-PARTICIPANT:
ATTENDEE;CN="Prof. Dr. Hubert Zimmermann";ROLE=REQ-PARTICIPANT:Prof. Dr. H
 ubert Zimmermann
ATTENDEE;CN="Professor für Internationale Beziehungen mit dem Schwerpunkt
  auf Außen- und Sicherheitspolitik (insbes. militärische Auslandsinterve
 ntionen und Außenbeziehungen der EU) an der Philipps-Universität Marburg
 ";ROLE=REQ-PARTICIPANT:Professor für Internationale Beziehungen mit dem S
 chwerpunkt auf Außen- und Sicherheitspolitik (insbes. militärische Ausla
 ndsinterventionen und Außenbeziehungen der EU) an der Philipps-Universit
 ät Marburg
ATTENDEE;CN=;ROLE=REQ-PARTICIPANT:
ATTENDEE;CN="Die Diskussion wird moderiert von Prof. Dr. Thorsten Bonacker
 , Professor für Friedens- und Konfliktforschung und Vize-Direktor des Zen
 trums für Konfliktforschung.";ROLE=REQ-PARTICIPANT:Die Diskussion wird mo
 deriert von Prof. Dr. Thorsten Bonacker, Professor für Friedens- und Konf
 liktforschung und Vize-Direktor des Zentrums für Konfliktforschung.
CREATED:20220301T122943Z
DESCRIPTION:https://www.uni-marburg.de/de/aktuelles/events/1-quartal-2022/
 krieg-in-der-ukraine-podiumsdiskussion\nZentrum für Konfliktforschung lä
 dt ein zur Podiumsdiskussion zu den aktuellen Ereignissen in der Ukraine u
 nd möglichen Folgen
LAST-MODIFIED:20220301T123243Z
LOCATION:Online
URL:https://www.uni-marburg.de/de/aktuelles/events/1-quartal-2022/krieg-in
 -der-ukraine-podiumsdiskussion
END:VEVENT
BEGIN:VTIMEZONE
TZID:Europe/Berlin
X-LIC-LOCATION:Europe/Berlin
BEGIN:STANDARD
DTSTART:20211031T020000
TZNAME:CET
TZOFFSETFROM:+0200
TZOFFSETTO:+0100
END:STANDARD
END:VTIMEZONE
END:VCALENDAR
