BEGIN:VCALENDAR
VERSION:2.0
PRODID:-//Plone.org//NONSGML plone.app.event//EN
X-WR-TIMEZONE:Europe/Berlin
BEGIN:VEVENT
SUMMARY:Liturgy-Specific-Art-Gottesdienst und Ausstellungseröffnung
DTSTART;TZID=Europe/Berlin:20220130T110000
DTSTAMP:20260424T115002Z
UID:19215ade791b443ebbab2e4e6fcfdaa4@www.uni-marburg.de
ATTENDEE;CN="Das Künstlerduo huber.huber, Prof. Dr. Thomas Erne mit Studi
 erenden (Liturgie und Predigt), Musik: Dr. Albert Kaul (Clavinova, Orgel),
  Theatimento (Gesang)";ROLE=REQ-PARTICIPANT:Das Künstlerduo huber.huber, 
 Prof. Dr. Thomas Erne mit Studierenden (Liturgie und Predigt), Musik: Dr. 
 Albert Kaul (Clavinova, Orgel), Theatimento (Gesang)
ATTENDEE;CN=;ROLE=REQ-PARTICIPANT:
CREATED:20220120T093716Z
DESCRIPTION:https://www.uni-marburg.de/de/aktuelles/events/1-quartal-2022/
 liturgy-specific-art-gottesdienst-und-ausstellungseroeffnung\nAusstellung 
 “IMAGINE - über 80 000 000 Menschen sind auf der Flucht” wird mit Lit
 urgy-Specific-Art-Gottesdienst in der Universitätskirche Marburg eröffne
 t
LAST-MODIFIED:20220120T093742Z
LOCATION:Universitätskirche Marburg\, Reitgasse 3\, 35037 Marburg
URL:https://www.uni-marburg.de/de/aktuelles/events/1-quartal-2022/liturgy-
 specific-art-gottesdienst-und-ausstellungseroeffnung
END:VEVENT
BEGIN:VTIMEZONE
TZID:Europe/Berlin
X-LIC-LOCATION:Europe/Berlin
BEGIN:STANDARD
DTSTART:20211031T020000
TZNAME:CET
TZOFFSETFROM:+0200
TZOFFSETTO:+0100
END:STANDARD
END:VTIMEZONE
END:VCALENDAR
