BEGIN:VCALENDAR
VERSION:2.0
PRODID:-//Plone.org//NONSGML plone.app.event//EN
X-WR-TIMEZONE:Europe/Berlin
BEGIN:VEVENT
SUMMARY:Online-Infotalk: Archäologie in Marburg studieren
DTSTART;TZID=Europe/Berlin:20210610T160000
DTEND;TZID=Europe/Berlin:20210610T173000
DTSTAMP:20260424T102124Z
UID:ea930accaf38411583283959f7b0b147@www.uni-marburg.de
ATTENDEE;CN="Studierende des Studiengangs Archäologische Wissenschaften";
 ROLE=REQ-PARTICIPANT:Studierende des Studiengangs Archäologische Wissensc
 haften
CREATED:20210511T112829Z
DESCRIPTION:https://www.uni-marburg.de/de/aktuelles/events/2-quartal-2021/
 online-infotalk-archaeologie-in-marburg-studieren\nInformationsveranstaltu
 ng für Studieninteressierte
LAST-MODIFIED:20210511T120523Z
LOCATION:BigBlueButton-Videokonferenz
URL:https://www.uni-marburg.de/de/aktuelles/events/2-quartal-2021/online-i
 nfotalk-archaeologie-in-marburg-studieren
END:VEVENT
BEGIN:VTIMEZONE
TZID:Europe/Berlin
X-LIC-LOCATION:Europe/Berlin
BEGIN:DAYLIGHT
DTSTART:20210328T030000
TZNAME:CEST
TZOFFSETFROM:+0100
TZOFFSETTO:+0200
END:DAYLIGHT
END:VTIMEZONE
END:VCALENDAR
