BEGIN:VCALENDAR
VERSION:2.0
PRODID:-//Plone.org//NONSGML plone.app.event//EN
X-WR-TIMEZONE:Europe/Berlin
BEGIN:VEVENT
SUMMARY:Hochschulwahlen für Studierende
DTSTART;TZID=Europe/Berlin:20250618T130000
DTEND;TZID=Europe/Berlin:20250702T130000
DTSTAMP:20260423T194259Z
UID:e0b0bbbfaff340948911ba1962b8fac7@www.uni-marburg.de
CREATED:20250611T153737Z
DESCRIPTION:https://www.uni-marburg.de/de/aktuelles/events/3-quartal-2025/
 hochschulwahlen-fuer-studierende\nOnline-Wahl vom 18. Juni bis 2. Juli 202
 5
LAST-MODIFIED:20250613T090134Z
LOCATION:online
URL:https://www.uni-marburg.de/de/aktuelles/events/3-quartal-2025/hochschu
 lwahlen-fuer-studierende
END:VEVENT
BEGIN:VTIMEZONE
TZID:Europe/Berlin
X-LIC-LOCATION:Europe/Berlin
BEGIN:DAYLIGHT
DTSTART:20250330T030000
TZNAME:CEST
TZOFFSETFROM:+0100
TZOFFSETTO:+0200
END:DAYLIGHT
END:VTIMEZONE
END:VCALENDAR
