BEGIN:VCALENDAR
VERSION:2.0
PRODID:-//Plone.org//NONSGML plone.app.event//EN
X-WR-TIMEZONE:Europe/Berlin
BEGIN:VEVENT
SUMMARY:Informationsveranstaltung Gast- und Seniorenstudium
DTSTART;TZID=Europe/Berlin:20250926T093000
DTEND;TZID=Europe/Berlin:20250926T110000
DTSTAMP:20260424T051216Z
UID:6eba68d47ff34dee95e7ab385f7870f3@www.uni-marburg.de
CREATED:20250922T065448Z
DESCRIPTION:https://www.uni-marburg.de/de/aktuelles/events/3-quartal-2025/
 informationsveranstaltung-gast-und-seniorenstudium\nDie Veranstaltung rich
 tet sich insbesondere an Interessierte\, die sich unverbindlich über das 
 Gast- und Seniorenstudium an der Philipps-Universität Marburg informieren
  möchten. Willkommen sind aber natürlich auch diejenigen\, die ihr Wisse
 n zum Gast- und Seniorenstudium auffrischen möchten und an einem Austausc
 h mit anderen Teilnehmerinnen und Teilnehmern der Informationsveranstaltun
 g interessiert sind.
LAST-MODIFIED:20250922T065545Z
LOCATION:Neues Seminargebäude B|07\, Seminarraum +1/0010\, 1. Etage\, Pil
 grimstein 12\, 35037 Marburg
URL:https://www.uni-marburg.de/de/aktuelles/events/3-quartal-2025/informat
 ionsveranstaltung-gast-und-seniorenstudium
END:VEVENT
BEGIN:VTIMEZONE
TZID:Europe/Berlin
X-LIC-LOCATION:Europe/Berlin
BEGIN:DAYLIGHT
DTSTART:20250330T030000
TZNAME:CEST
TZOFFSETFROM:+0100
TZOFFSETTO:+0200
END:DAYLIGHT
END:VTIMEZONE
END:VCALENDAR
