BEGIN:VCALENDAR
VERSION:2.0
PRODID:-//Plone.org//NONSGML plone.app.event//EN
X-WR-TIMEZONE:Europe/Berlin
BEGIN:VEVENT
SUMMARY:Karl-von- Frisch-Preisvergabe an die besten Biologie-Abiturientinn
 en und Abiturienten
DTSTART;TZID=Europe/Berlin:20250614T100000
DTEND;TZID=Europe/Berlin:20250614T161500
DTSTAMP:20260425T233014Z
UID:1abda197df0a46d7a47b4eeca371ddf8@www.uni-marburg.de
CREATED:20250611T094436Z
DESCRIPTION:https://www.uni-marburg.de/de/aktuelles/events/3-quartal-2025/
 karl-von-frisch-preisvergabe-an-die-besten-biologie-abiturientinnen-und-ab
 iturienten\nDer Landesverband Hessen des Verbandes Biologie\, Biowissensch
 aften und Biomedizin\n(VBIO e. V.) zeichnet während einer Feierstunde auf
  den Lahnbergen auch in diesem Jahr hessische Abiturientinnen und Abiturie
 nten mit\ndem Karl-von-Frisch-Preis aus.
LAST-MODIFIED:20250611T094632Z
LOCATION:Großer Hörsaal des Fachbereichs Biologie\, Karl-von-Frisch-Str.
  8.\, Marburg
URL:https://www.uni-marburg.de/de/aktuelles/events/3-quartal-2025/karl-von
 -frisch-preisvergabe-an-die-besten-biologie-abiturientinnen-und-abiturient
 en
END:VEVENT
BEGIN:VTIMEZONE
TZID:Europe/Berlin
X-LIC-LOCATION:Europe/Berlin
BEGIN:DAYLIGHT
DTSTART:20250330T030000
TZNAME:CEST
TZOFFSETFROM:+0100
TZOFFSETTO:+0200
END:DAYLIGHT
END:VTIMEZONE
END:VCALENDAR
