BEGIN:VCALENDAR
VERSION:2.0
PRODID:-//Plone.org//NONSGML plone.app.event//EN
X-WR-TIMEZONE:Europe/Berlin
BEGIN:VEVENT
SUMMARY:Marburg feiert Forschung
DTSTART;TZID=Europe/Berlin:20250906T121500
DTSTAMP:20260424T092946Z
UID:cf13d5a3b0c24aefb8235926c448e177@www.uni-marburg.de
ATTENDEE;CN="Mit Forschenden aus den Exzellen-Clustern und dem Science Pub
 -Quiz aus Heidelberg";ROLE=REQ-PARTICIPANT:Mit Forschenden aus den Exzelle
 n-Clustern und dem Science Pub-Quiz aus Heidelberg
CREATED:20250822T092143Z
DESCRIPTION:https://www.uni-marburg.de/de/aktuelles/events/3-quartal-2025/
 marburg-feiert-forschung\nWissenschaftsfest zum Mitmachen und Staunen
LAST-MODIFIED:20250822T092203Z
LOCATION:Marktplatz Marburg
URL:https://www.uni-marburg.de/de/aktuelles/events/3-quartal-2025/marburg-
 feiert-forschung
END:VEVENT
BEGIN:VTIMEZONE
TZID:Europe/Berlin
X-LIC-LOCATION:Europe/Berlin
BEGIN:DAYLIGHT
DTSTART:20250330T030000
TZNAME:CEST
TZOFFSETFROM:+0100
TZOFFSETTO:+0200
END:DAYLIGHT
END:VTIMEZONE
END:VCALENDAR
