BEGIN:VCALENDAR
VERSION:2.0
PRODID:-//Plone.org//NONSGML plone.app.event//EN
X-WR-TIMEZONE:Europe/Berlin
BEGIN:VEVENT
SUMMARY:Science PubQuiz
DTSTART;TZID=Europe/Berlin:20250906T200000
DTSTAMP:20260423T142607Z
UID:64c0158f141741aaa617b9a80730a4b7@www.uni-marburg.de
ATTENDEE;CN="Science PubQuiz Team aus Heidelberg und Prof. Dr. Gert Bange,
  Vizepräsident Forschung der Uni Marburg";ROLE=REQ-PARTICIPANT:Science Pu
 bQuiz Team aus Heidelberg und Prof. Dr. Gert Bange, Vizepräsident Forschu
 ng der Uni Marburg
CREATED:20250822T101111Z
DESCRIPTION:https://www.uni-marburg.de/de/aktuelles/events/3-quartal-2025/
 science-pubquiz\nDas Original aus Heidelberg erstmals in Marburg auf Einla
 dung des Forschungscampus Mittelhessen
LAST-MODIFIED:20250822T101131Z
LOCATION:Café am Markt\, Markt 9\, Marburg
URL:https://www.uni-marburg.de/de/aktuelles/events/3-quartal-2025/science-
 pubquiz
END:VEVENT
BEGIN:VTIMEZONE
TZID:Europe/Berlin
X-LIC-LOCATION:Europe/Berlin
BEGIN:DAYLIGHT
DTSTART:20250330T030000
TZNAME:CEST
TZOFFSETFROM:+0100
TZOFFSETTO:+0200
END:DAYLIGHT
END:VTIMEZONE
END:VCALENDAR
