BEGIN:VCALENDAR
VERSION:2.0
PRODID:-//Plone.org//NONSGML plone.app.event//EN
X-WR-TIMEZONE:Europe/Berlin
BEGIN:VEVENT
SUMMARY:Informationsveranstaltung zum Thema "Elterngeld"
DTSTART;TZID=Europe/Berlin:20180125T083000
DTEND;TZID=Europe/Berlin:20180125T130000
DTSTAMP:20260426T024744Z
UID:aa7942aec8884e39bdc3a28d9b6ed78f@www.uni-marburg.de
ATTENDEE;CN="Thomas Koch, Hess. Amt für Versorgung Soziales Gießen, www.
 versorgungsmat-hessen.de";ROLE=REQ-PARTICIPANT:Thomas Koch, Hess. Amt für
  Versorgung Soziales Gießen, www.versorgungsmat-hessen.de
CREATED:20170925T083423Z
DESCRIPTION:https://www.uni-marburg.de/de/aktuelles/events/termine-1-quart
 al-2018/180125_elterngeld\nDiese Veranstaltung richtet sich an alle Person
 en\, die sich zum Thema "Elterngeld" informieren möchten.
LAST-MODIFIED:20170925T083436Z
LOCATION:B|01\, Hörsaalgebäude\, Biegenstr. 14\, Raum +02/0100
URL:https://www.uni-marburg.de/de/aktuelles/events/termine-1-quartal-2018/
 180125_elterngeld
END:VEVENT
BEGIN:VTIMEZONE
TZID:Europe/Berlin
X-LIC-LOCATION:Europe/Berlin
BEGIN:STANDARD
DTSTART:20171029T020000
TZNAME:CET
TZOFFSETFROM:+0200
TZOFFSETTO:+0100
END:STANDARD
END:VTIMEZONE
END:VCALENDAR
