BEGIN:VCALENDAR
VERSION:2.0
PRODID:-//Plone.org//NONSGML plone.app.event//EN
X-WR-TIMEZONE:Europe/Berlin
BEGIN:VEVENT
SUMMARY:Professioneller Umgang mit ‚schwierigen’ Menschen - Vertiefung
DTSTART;TZID=Europe/Berlin:20180313T083000
DTEND;TZID=Europe/Berlin:20180313T163000
DTSTAMP:20260426T023003Z
UID:8c3a000fa79846bb830a7b7739c56b34@www.uni-marburg.de
ATTENDEE;CN="Barbara Schade (www.barbara-schade.de)";ROLE=REQ-PARTICIPANT:
 Barbara Schade (www.barbara-schade.de)
CREATED:20171011T063158Z
DESCRIPTION:https://www.uni-marburg.de/de/aktuelles/events/termine-1-quart
 al-2018/180313_schwierigemenschenvertiefung\nSie haben bereits das zweitä
 gige Seminar „Professioneller Umgang mit ‚schwierigen’ Menschen“ a
 bsolviert. Mit diesem Vertiefungs–Tag wird noch einmal das Erlebte und E
 rlernte des ersten Kurses in Erinnerung gebracht und relevante Themen werd
 en vertieft.
LAST-MODIFIED:20171011T063216Z
LOCATION:B|03\, Sitzungssaal 003\, Biegenstr. 12
URL:https://www.uni-marburg.de/de/aktuelles/events/termine-1-quartal-2018/
 180313_schwierigemenschenvertiefung
END:VEVENT
BEGIN:VTIMEZONE
TZID:Europe/Berlin
X-LIC-LOCATION:Europe/Berlin
BEGIN:STANDARD
DTSTART:20171029T020000
TZNAME:CET
TZOFFSETFROM:+0200
TZOFFSETTO:+0100
END:STANDARD
END:VTIMEZONE
END:VCALENDAR
