BEGIN:VCALENDAR
VERSION:2.0
PRODID:-//Plone.org//NONSGML plone.app.event//EN
X-WR-TIMEZONE:Europe/Berlin
BEGIN:VEVENT
SUMMARY:Anorganisch-chemisches Kolloquium
DTSTART;TZID=Europe/Berlin:20180205T171500
DTSTAMP:20260426T002037Z
UID:1a5c6e335871489f8838567223266dbd@www.uni-marburg.de
ATTENDEE;CN="Prof. Dr. Frank Uhlig, Institut für Anorganische Chemie, TU 
 Graz";ROLE=REQ-PARTICIPANT:Prof. Dr. Frank Uhlig, Institut für Anorganisc
 he Chemie, TU Graz
CREATED:20180108T102553Z
DESCRIPTION:https://www.uni-marburg.de/de/aktuelles/events/termine-1-quart
 al-2018/anorganisch-chemisches-kolloquium\nOrganometallic Derivatives of G
 roup 14 and Energy-related Applications
LAST-MODIFIED:20180108T104958Z
LOCATION:Fachbereich Chemie\, Hörsaalgebäude\, HS C
URL:https://www.uni-marburg.de/de/aktuelles/events/termine-1-quartal-2018/
 anorganisch-chemisches-kolloquium
END:VEVENT
BEGIN:VTIMEZONE
TZID:Europe/Berlin
X-LIC-LOCATION:Europe/Berlin
BEGIN:STANDARD
DTSTART:20171029T020000
TZNAME:CET
TZOFFSETFROM:+0200
TZOFFSETTO:+0100
END:STANDARD
END:VTIMEZONE
END:VCALENDAR
