BEGIN:VCALENDAR
VERSION:2.0
PRODID:-//Plone.org//NONSGML plone.app.event//EN
X-WR-TIMEZONE:Europe/Berlin
BEGIN:VEVENT
SUMMARY:Anorganisch-chemisches Kolloquium
DTSTART;TZID=Europe/Berlin:20180129T171500
DTSTAMP:20260426T002133Z
UID:b79bf328fedb47acaf2bed3e6193eda2@www.uni-marburg.de
ATTENDEE;CN="Prof. Dr. Tom Nilges, Department Chemie, TU München";ROLE=RE
 Q-PARTICIPANT:Prof. Dr. Tom Nilges, Department Chemie, TU München
CREATED:20180108T091937Z
DESCRIPTION:https://www.uni-marburg.de/de/aktuelles/events/termine-1-quart
 al-2018/chemistry-and-applications-of-low-dimensional-elements-and-materia
 ls\nChemistry and Applications of Low-dimensional Elements and Materials
LAST-MODIFIED:20180108T102832Z
LOCATION:Fachbereich Chemie\, Hörsaalgebäude\, HS C
URL:https://www.uni-marburg.de/de/aktuelles/events/termine-1-quartal-2018/
 chemistry-and-applications-of-low-dimensional-elements-and-materials
END:VEVENT
BEGIN:VTIMEZONE
TZID:Europe/Berlin
X-LIC-LOCATION:Europe/Berlin
BEGIN:STANDARD
DTSTART:20171029T020000
TZNAME:CET
TZOFFSETFROM:+0200
TZOFFSETTO:+0100
END:STANDARD
END:VTIMEZONE
END:VCALENDAR
