BEGIN:VCALENDAR
VERSION:2.0
PRODID:-//Plone.org//NONSGML plone.app.event//EN
X-WR-TIMEZONE:Europe/Berlin
BEGIN:VEVENT
SUMMARY:Effektiv Zitieren: Citavi-Schulung
DTSTART;TZID=Europe/Berlin:20180207T101500
DTEND;TZID=Europe/Berlin:20180207T114500
DTSTAMP:20260426T000629Z
UID:6b638dccc53b410ebfb8ccaf7926d05d@www.uni-marburg.de
ATTENDEE;CN="Katharina Haas";ROLE=REQ-PARTICIPANT:Katharina Haas
CREATED:20180112T151745Z
DESCRIPTION:https://www.uni-marburg.de/de/aktuelles/events/termine-1-quart
 al-2018/effektiv-zitieren-citavi-schulung\nEinführung in das Literaturver
 waltungsprogramm Citavi
LAST-MODIFIED:20180112T152016Z
LOCATION:Schulungsraum der Zentralbibliothek (ZB)\, Wilhelm-Röpke-Str. 4 
 (Lahntal)
URL:https://www.uni-marburg.de/de/aktuelles/events/termine-1-quartal-2018/
 effektiv-zitieren-citavi-schulung
END:VEVENT
BEGIN:VTIMEZONE
TZID:Europe/Berlin
X-LIC-LOCATION:Europe/Berlin
BEGIN:STANDARD
DTSTART:20171029T020000
TZNAME:CET
TZOFFSETFROM:+0200
TZOFFSETTO:+0100
END:STANDARD
END:VTIMEZONE
END:VCALENDAR
