BEGIN:VCALENDAR
VERSION:2.0
PRODID:-//Plone.org//NONSGML plone.app.event//EN
X-WR-TIMEZONE:Europe/Berlin
BEGIN:VEVENT
SUMMARY:Hausarbeiten-Sprechstunde
DTSTART;TZID=Europe/Berlin:20180307T130000
DTEND;TZID=Europe/Berlin:20180307T153000
DTSTAMP:20260426T023714Z
UID:68ad4ba219e54002a273638c6135229f@www.uni-marburg.de
ATTENDEE;CN="Dr. Sylvia Langwald";ROLE=REQ-PARTICIPANT:Dr. Sylvia Langwald
CREATED:20180112T150150Z
DESCRIPTION:https://www.uni-marburg.de/de/aktuelles/events/termine-1-quart
 al-2018/hausarbeitensprechstunde07032018\n
LAST-MODIFIED:20180223T095339Z
LOCATION:Informationszentrum\, Zentralbibliothek\, Wilhelm-Röpke-Straße 
 4
URL:https://www.uni-marburg.de/de/aktuelles/events/termine-1-quartal-2018/
 hausarbeitensprechstunde07032018
END:VEVENT
BEGIN:VTIMEZONE
TZID:Europe/Berlin
X-LIC-LOCATION:Europe/Berlin
BEGIN:STANDARD
DTSTART:20171029T020000
TZNAME:CET
TZOFFSETFROM:+0200
TZOFFSETTO:+0100
END:STANDARD
END:VTIMEZONE
END:VCALENDAR
