BEGIN:VCALENDAR
VERSION:2.0
PRODID:-//Plone.org//NONSGML plone.app.event//EN
X-WR-TIMEZONE:Europe/Berlin
BEGIN:VEVENT
SUMMARY:Abschlussveranstaltung des Ideenwettbewerbes der Philipps-Universi
 tät
DTSTART;TZID=Europe/Berlin:20180130T180000
DTEND;TZID=Europe/Berlin:20180130T200000
DTSTAMP:20260426T040748Z
UID:f217fd45b8924a8aaf5a7d09202b6694@www.uni-marburg.de
CREATED:20180122T121614Z
DESCRIPTION:https://www.uni-marburg.de/de/aktuelles/events/termine-1-quart
 al-2018/ideenwettbewerb-abschlussfeier\nFeierliche Abschlussveranstaltung 
 - Pitch der 10 besten Ideen & Prämierung der Sieger am 30.01.2018
LAST-MODIFIED:20180124T113452Z
LOCATION:Alte Universität - Lahntor 3\, 35037 Marburg
URL:https://www.uni-marburg.de/de/aktuelles/events/termine-1-quartal-2018/
 ideenwettbewerb-abschlussfeier
END:VEVENT
BEGIN:VTIMEZONE
TZID:Europe/Berlin
X-LIC-LOCATION:Europe/Berlin
BEGIN:STANDARD
DTSTART:20171029T020000
TZNAME:CET
TZOFFSETFROM:+0200
TZOFFSETTO:+0100
END:STANDARD
END:VTIMEZONE
END:VCALENDAR
