BEGIN:VCALENDAR
VERSION:2.0
PRODID:-//Plone.org//NONSGML plone.app.event//EN
X-WR-TIMEZONE:Europe/Berlin
BEGIN:VEVENT
SUMMARY:It don’t mean a thing\, if it ain’t got that swing!
DTSTART;TZID=Europe/Berlin:20180208T200000
DTSTAMP:20260426T040656Z
UID:30802a4322394a1e839c7a8175e61cf3@www.uni-marburg.de
CREATED:20180119T102303Z
DESCRIPTION:https://www.uni-marburg.de/de/aktuelles/events/termine-1-quart
 al-2018/it-don2019t-mean-a-thing-if-it-ain2019t-got-that-swing\nKonzert de
 r Studierenden-BigBand Marburg
LAST-MODIFIED:20180119T102457Z
LOCATION:Kulturzentrum KFZ
URL:https://www.uni-marburg.de/de/aktuelles/events/termine-1-quartal-2018/
 it-don2019t-mean-a-thing-if-it-ain2019t-got-that-swing
END:VEVENT
BEGIN:VTIMEZONE
TZID:Europe/Berlin
X-LIC-LOCATION:Europe/Berlin
BEGIN:STANDARD
DTSTART:20171029T020000
TZNAME:CET
TZOFFSETFROM:+0200
TZOFFSETTO:+0100
END:STANDARD
END:VTIMEZONE
END:VCALENDAR
