BEGIN:VCALENDAR
VERSION:2.0
PRODID:-//Plone.org//NONSGML plone.app.event//EN
X-WR-TIMEZONE:Europe/Berlin
BEGIN:VEVENT
SUMMARY:Das Jahresgespräch: Workshop insbesondere für Mitarbeiter/innen 
 in Sandwichpositionen
DTSTART;TZID=Europe/Berlin:20180201T083000
DTEND;TZID=Europe/Berlin:20180201T133000
DTSTAMP:20260426T021856Z
UID:a3ad013df34f41119dc508afa0d26fa0@www.uni-marburg.de
ATTENDEE;CN="Oliver Leibrecht (www.euton.de)";ROLE=REQ-PARTICIPANT:Oliver 
 Leibrecht (www.euton.de)
CREATED:20171214T102622Z
DESCRIPTION:https://www.uni-marburg.de/de/aktuelles/events/termine-1-quart
 al-2018/jahresgespraechesandwich_180201\n
LAST-MODIFIED:20171214T102820Z
LOCATION:B|01 Hörsaalgebäude\, Biegenstr. 14\, Raum +2/0100
URL:https://www.uni-marburg.de/de/aktuelles/events/termine-1-quartal-2018/
 jahresgespraechesandwich_180201
END:VEVENT
BEGIN:VTIMEZONE
TZID:Europe/Berlin
X-LIC-LOCATION:Europe/Berlin
BEGIN:STANDARD
DTSTART:20171029T020000
TZNAME:CET
TZOFFSETFROM:+0200
TZOFFSETTO:+0100
END:STANDARD
END:VTIMEZONE
END:VCALENDAR
