BEGIN:VCALENDAR
VERSION:2.0
PRODID:-//Plone.org//NONSGML plone.app.event//EN
X-WR-TIMEZONE:Europe/Berlin
BEGIN:VEVENT
SUMMARY:Das Jahresgespräch: Workshop für Mitarbeiter/innen
DTSTART;TZID=Europe/Berlin:20180222T083000
DTEND;TZID=Europe/Berlin:20180222T133000
DTSTAMP:20260426T002223Z
UID:bd0060fb06c6470d9aaa2271b827f5a7@www.uni-marburg.de
ATTENDEE;CN="Dr. Katja Franz (www.katjafranz.de)";ROLE=REQ-PARTICIPANT:Dr.
  Katja Franz (www.katjafranz.de)
CREATED:20171214T102622Z
DESCRIPTION:https://www.uni-marburg.de/de/aktuelles/events/termine-1-quart
 al-2018/jahresgespraechmitarbeiter_180222\n
LAST-MODIFIED:20171214T103408Z
LOCATION:B|01 Hörsaalgebäude\, Biegenstr. 14\, Raum +2/0100
URL:https://www.uni-marburg.de/de/aktuelles/events/termine-1-quartal-2018/
 jahresgespraechmitarbeiter_180222
END:VEVENT
BEGIN:VTIMEZONE
TZID:Europe/Berlin
X-LIC-LOCATION:Europe/Berlin
BEGIN:STANDARD
DTSTART:20171029T020000
TZNAME:CET
TZOFFSETFROM:+0200
TZOFFSETTO:+0100
END:STANDARD
END:VTIMEZONE
END:VCALENDAR
