BEGIN:VCALENDAR
VERSION:2.0
PRODID:-//Plone.org//NONSGML plone.app.event//EN
X-WR-TIMEZONE:Europe/Berlin
BEGIN:VEVENT
SUMMARY:Fachbereichskolloquium Psychologie
DTSTART;TZID=Europe/Berlin:20180220T161500
DTEND;TZID=Europe/Berlin:20180220T180000
DTSTAMP:20260426T002249Z
UID:5538964e259742639afdc1208401c3e4@www.uni-marburg.de
ATTENDEE;CN="PD Dr. Felix Schönbrodt, Ludwig-Maximilians-Universität Mü
 nchen";ROLE=REQ-PARTICIPANT:PD Dr. Felix Schönbrodt, Ludwig-Maximilians-U
 niversität München
CREATED:20180206T115740Z
DESCRIPTION:https://www.uni-marburg.de/de/aktuelles/events/termine-1-quart
 al-2018/kolloq_17_11_24\n„Die Glaubwürdigkeitskrise in der Wissenschaft
 : Open Science als Antwort”
LAST-MODIFIED:20180206T120345Z
LOCATION:Landgrafenhaus\, Universitätsstr. 7\, Raum +2/0010 (209)
URL:https://www.uni-marburg.de/de/aktuelles/events/termine-1-quartal-2018/
 kolloq_17_11_24
END:VEVENT
BEGIN:VTIMEZONE
TZID:Europe/Berlin
X-LIC-LOCATION:Europe/Berlin
BEGIN:STANDARD
DTSTART:20171029T020000
TZNAME:CET
TZOFFSETFROM:+0200
TZOFFSETTO:+0100
END:STANDARD
END:VTIMEZONE
END:VCALENDAR
