BEGIN:VCALENDAR
VERSION:2.0
PRODID:-//Plone.org//NONSGML plone.app.event//EN
X-WR-TIMEZONE:Europe/Berlin
BEGIN:VEVENT
SUMMARY:Macht und Gewalt 1968. Workshop-Kooperation des IfS Frankfurt mit 
 Portal Ideengeschichte
DTSTART;TZID=Europe/Berlin:20180202T130000
DTEND;TZID=Europe/Berlin:20180202T190000
DTSTAMP:20260426T054835Z
UID:e5adaaa96591405897045309aef20ce1@www.uni-marburg.de
CREATED:20180117T125542Z
DESCRIPTION:https://www.uni-marburg.de/de/aktuelles/events/termine-1-quart
 al-2018/machtundgewaltworkshop\nEine interdisziplinäre Veranstaltung im R
 ahmen des Kooperationsprojekts "Linksverkehr. Frankfurt a.M./Marburg - Ide
 entransit um 1968" des Frankfurter Instituts für Sozialforschung mit Port
 al Ideengeschichte.
LAST-MODIFIED:20180117T125635Z
LOCATION:Marburg\, Philipps-Universität Marburg\, Wilhelm-Röpke-Straße 
 6 (PhilFak)\, G-Gang\, Raum 00038
URL:https://www.uni-marburg.de/de/aktuelles/events/termine-1-quartal-2018/
 machtundgewaltworkshop
END:VEVENT
BEGIN:VTIMEZONE
TZID:Europe/Berlin
X-LIC-LOCATION:Europe/Berlin
BEGIN:STANDARD
DTSTART:20171029T020000
TZNAME:CET
TZOFFSETFROM:+0200
TZOFFSETTO:+0100
END:STANDARD
END:VTIMEZONE
END:VCALENDAR
