BEGIN:VCALENDAR
VERSION:2.0
PRODID:-//Plone.org//NONSGML plone.app.event//EN
X-WR-TIMEZONE:Europe/Berlin
BEGIN:VEVENT
SUMMARY:Versöhnung\, Schuld und diskursive Macht im kolumbianischen Fried
 ensprozess
DTSTART;TZID=Europe/Berlin:20180201T181500
DTEND;TZID=Europe/Berlin:20180201T194500
DTSTAMP:20260426T040734Z
UID:596313fa3d4145ab8529651faff2add9@www.uni-marburg.de
ATTENDEE;CN="Prof. Dr. Anika Oettler, Institut für Soziologie, Philipps-U
 niversität Marburg";ROLE=REQ-PARTICIPANT:Prof. Dr. Anika Oettler, Institu
 t für Soziologie, Philipps-Universität Marburg
CREATED:20170919T064722Z
DESCRIPTION:https://www.uni-marburg.de/de/aktuelles/events/termine-1-quart
 al-2018/oettlerkolumbien\nVortrag in der Reihe AnthroLab
LAST-MODIFIED:20170919T064731Z
LOCATION:Deutschhausstraße 3\, Hörsaal\, 1. OG
URL:https://www.uni-marburg.de/de/aktuelles/events/termine-1-quartal-2018/
 oettlerkolumbien
END:VEVENT
BEGIN:VTIMEZONE
TZID:Europe/Berlin
X-LIC-LOCATION:Europe/Berlin
BEGIN:STANDARD
DTSTART:20171029T020000
TZNAME:CET
TZOFFSETFROM:+0200
TZOFFSETTO:+0100
END:STANDARD
END:VTIMEZONE
END:VCALENDAR
