BEGIN:VCALENDAR
VERSION:2.0
PRODID:-//Plone.org//NONSGML plone.app.event//EN
X-WR-TIMEZONE:Europe/Berlin
BEGIN:VEVENT
SUMMARY:The Politics of Culture in Contemporary Turkey
DTSTART;TZID=Europe/Berlin:20180214T183000
DTEND;TZID=Europe/Berlin:20180216T170000
DTSTAMP:20260425T225400Z
UID:29a9824a1d9e41ff92fe61dd1ffdee30@www.uni-marburg.de
CREATED:20180112T152516Z
DESCRIPTION:https://www.uni-marburg.de/de/aktuelles/events/termine-1-quart
 al-2018/politics-contemporary-turkey\nInternational Academic Workshop
LAST-MODIFIED:20180201T111950Z
LOCATION:Centre for Near and Middle Eastern Studies\, Marburg\, Germany
URL:https://www.uni-marburg.de/de/aktuelles/events/termine-1-quartal-2018/
 politics-contemporary-turkey
END:VEVENT
BEGIN:VTIMEZONE
TZID:Europe/Berlin
X-LIC-LOCATION:Europe/Berlin
BEGIN:STANDARD
DTSTART:20171029T020000
TZNAME:CET
TZOFFSETFROM:+0200
TZOFFSETTO:+0100
END:STANDARD
END:VTIMEZONE
END:VCALENDAR
