BEGIN:VCALENDAR
VERSION:2.0
PRODID:-//Plone.org//NONSGML plone.app.event//EN
X-WR-TIMEZONE:Europe/Berlin
BEGIN:VEVENT
SUMMARY:Selbstbestimmt Handeln in der Funktion?! – Ziele definieren\, Pr
 ioritäten setzen\, Entscheidungen vertreten
DTSTART;TZID=Europe/Berlin:20180126T133000
DTEND;TZID=Europe/Berlin:20180126T170000
DTSTAMP:20260426T054805Z
UID:5321398eef4941f99ab893ab97c824c9@www.uni-marburg.de
ATTENDEE;CN="Rainer Osterhorn (www.personalentwicklung-osterhorn.de)";ROLE
 =REQ-PARTICIPANT:Rainer Osterhorn (www.personalentwicklung-osterhorn.de)
CREATED:20170711T150804Z
DESCRIPTION:https://www.uni-marburg.de/de/aktuelles/events/termine-1-quart
 al-2018/selbstbestimmt\nWorkshop für Professorinnen und Professoren\, in 
 ihrer Selbstständigkeit vergleichbare Wissenschaftlerinnen und Wissenscha
 ftler sowie leitende Führungskräfte der Verwaltung und der Einrichtungen
LAST-MODIFIED:20170711T150913Z
LOCATION:Sitzungssaal 003\, B|03\, Biegenstr. 12
URL:https://www.uni-marburg.de/de/aktuelles/events/termine-1-quartal-2018/
 selbstbestimmt
END:VEVENT
BEGIN:VTIMEZONE
TZID:Europe/Berlin
X-LIC-LOCATION:Europe/Berlin
BEGIN:STANDARD
DTSTART:20171029T020000
TZNAME:CET
TZOFFSETFROM:+0200
TZOFFSETTO:+0100
END:STANDARD
END:VTIMEZONE
END:VCALENDAR
