BEGIN:VCALENDAR
VERSION:2.0
PRODID:-//Plone.org//NONSGML plone.app.event//EN
X-WR-TIMEZONE:Europe/Berlin
BEGIN:VEVENT
SUMMARY:Universitätsentwicklung auf den Lahnbergen und in der Innenstadt
DTSTART;TZID=Europe/Berlin:20180206T190000
DTEND;TZID=Europe/Berlin:20180206T210000
DTSTAMP:20260426T000403Z
UID:f98ad80896394a939f1823949a3dea5a@www.uni-marburg.de
CREATED:20180130T094325Z
DESCRIPTION:https://www.uni-marburg.de/de/aktuelles/events/termine-1-quart
 al-2018/universitaetsentwicklung-auf-den-lahnbergen-und-in-der-innenstadt\
 nÖffentliche Veranstaltung der Philipps-Universität und der Universität
 sstadt Marburg
LAST-MODIFIED:20180130T100152Z
LOCATION:Hörsaalgebäude der Philipps-Universität (Biegenstr. 14)\, Hör
 saal +1/0020
URL:https://www.uni-marburg.de/de/aktuelles/events/termine-1-quartal-2018/
 universitaetsentwicklung-auf-den-lahnbergen-und-in-der-innenstadt
END:VEVENT
BEGIN:VTIMEZONE
TZID:Europe/Berlin
X-LIC-LOCATION:Europe/Berlin
BEGIN:STANDARD
DTSTART:20171029T020000
TZNAME:CET
TZOFFSETFROM:+0200
TZOFFSETTO:+0100
END:STANDARD
END:VTIMEZONE
END:VCALENDAR
