BEGIN:VCALENDAR
VERSION:2.0
PRODID:-//Plone.org//NONSGML plone.app.event//EN
X-WR-TIMEZONE:Europe/Berlin
BEGIN:VEVENT
SUMMARY:Bildungsziele und die Lehrer*innenbildung in Schweden
DTSTART;TZID=Europe/Berlin:20190116T201500
DTSTAMP:20260420T120606Z
UID:c0a15d4296c6411e9380e353287c8bb8@www.uni-marburg.de
ATTENDEE;CN="Frau Prof. Dr. Anja Kraus (Universität Stockholm)";ROLE=REQ-
 PARTICIPANT:Frau Prof. Dr. Anja Kraus (Universität Stockholm)
CREATED:20180920T124717Z
DESCRIPTION:https://www.uni-marburg.de/de/aktuelles/events/termine-1-quart
 al-2019/bildungsziele-schweden\nVortrag im Studium Generale im Wintersemes
 ter 2018/19
LAST-MODIFIED:20180920T125910Z
LOCATION:Audimax im Hörsaalgebäude (+2/0010)\, Biegenstraße 14\, 35037 
 Marburg
URL:https://www.uni-marburg.de/de/aktuelles/events/termine-1-quartal-2019/
 bildungsziele-schweden
END:VEVENT
BEGIN:VTIMEZONE
TZID:Europe/Berlin
X-LIC-LOCATION:Europe/Berlin
BEGIN:STANDARD
DTSTART:20181028T020000
TZNAME:CET
TZOFFSETFROM:+0200
TZOFFSETTO:+0100
END:STANDARD
END:VTIMEZONE
END:VCALENDAR
