BEGIN:VCALENDAR
VERSION:2.0
PRODID:-//Plone.org//NONSGML plone.app.event//EN
X-WR-TIMEZONE:Europe/Berlin
BEGIN:VEVENT
SUMMARY:Erfolgreich Unterrichten ohne Auszubrennen?
DTSTART;TZID=Europe/Berlin:20190130T201500
DTSTAMP:20260420T003852Z
UID:4848753dd0e24234b6c04841228bcbb7@www.uni-marburg.de
ATTENDEE;CN="Prof. Dr. Malte Schwinger (Pädagogische Psychologie)";ROLE=R
 EQ-PARTICIPANT:Prof. Dr. Malte Schwinger (Pädagogische Psychologie)
CREATED:20180920T125418Z
DESCRIPTION:https://www.uni-marburg.de/de/aktuelles/events/termine-1-quart
 al-2019/erfolgreich-unterrichten\nEine psychologische Perspektive auf beru
 fliche Herausforderungen von Lehrkräften - Vortrag im Studium Generale im
  Wintersemester 2018/19
LAST-MODIFIED:20180920T125906Z
LOCATION:Audimax im Hörsaalgebäude (+2/0010)\, Biegenstraße 14\, 35037 
 Marburg
URL:https://www.uni-marburg.de/de/aktuelles/events/termine-1-quartal-2019/
 erfolgreich-unterrichten
END:VEVENT
BEGIN:VTIMEZONE
TZID:Europe/Berlin
X-LIC-LOCATION:Europe/Berlin
BEGIN:STANDARD
DTSTART:20181028T020000
TZNAME:CET
TZOFFSETFROM:+0200
TZOFFSETTO:+0100
END:STANDARD
END:VTIMEZONE
END:VCALENDAR
