BEGIN:VCALENDAR
VERSION:2.0
PRODID:-//Plone.org//NONSGML plone.app.event//EN
X-WR-TIMEZONE:Europe/Berlin
BEGIN:VEVENT
SUMMARY:Gast- und Seniorenstudium im Sommersemester 2023
DTSTART;TZID=Europe/Berlin:20230324T093000
DTEND;TZID=Europe/Berlin:20230324T110000
DTSTAMP:20260421T192217Z
UID:02e34b714a7946f19bbdd2891f777f75@www.uni-marburg.de
CREATED:20230309T114939Z
DESCRIPTION:https://www.uni-marburg.de/de/aktuelles/events/termine-1-quart
 al-2023/gast-und-seniorenstudium-im-sommersemester-2023\nInformationsveran
 staltung für Interessierte
LAST-MODIFIED:20230309T115328Z
LOCATION:Biegenstraße 14\, Hörsaalgebäude\, Hörsaal 00/0080
URL:https://www.uni-marburg.de/de/aktuelles/events/termine-1-quartal-2023/
 gast-und-seniorenstudium-im-sommersemester-2023
END:VEVENT
BEGIN:VTIMEZONE
TZID:Europe/Berlin
X-LIC-LOCATION:Europe/Berlin
BEGIN:STANDARD
DTSTART:20221030T020000
TZNAME:CET
TZOFFSETFROM:+0200
TZOFFSETTO:+0100
END:STANDARD
END:VTIMEZONE
END:VCALENDAR
