BEGIN:VCALENDAR
VERSION:2.0
PRODID:-//Plone.org//NONSGML plone.app.event//EN
X-WR-TIMEZONE:Europe/Berlin
BEGIN:VEVENT
SUMMARY:Semesterabschlusskonzert des Studentischen Sinfonieorchesters (SSO
 )
DTSTART;TZID=Europe/Berlin:20230131T200000
DTSTAMP:20260420T210007Z
UID:12d33ce281c64d25bf0fa5798560af0b@www.uni-marburg.de
CREATED:20230120T123725Z
DESCRIPTION:https://www.uni-marburg.de/de/aktuelles/events/termine-1-quart
 al-2023/konzert-sso-20230131\n
LAST-MODIFIED:20230120T124308Z
LOCATION:Audimax der Philipps-Universität\, Biegenstraße 14\, 35037 Marb
 urg
URL:https://www.uni-marburg.de/de/aktuelles/events/termine-1-quartal-2023/
 konzert-sso-20230131
END:VEVENT
BEGIN:VTIMEZONE
TZID:Europe/Berlin
X-LIC-LOCATION:Europe/Berlin
BEGIN:STANDARD
DTSTART:20221030T020000
TZNAME:CET
TZOFFSETFROM:+0200
TZOFFSETTO:+0100
END:STANDARD
END:VTIMEZONE
END:VCALENDAR
