BEGIN:VCALENDAR
VERSION:2.0
PRODID:-//Plone.org//NONSGML plone.app.event//EN
X-WR-TIMEZONE:Europe/Berlin
BEGIN:VEVENT
SUMMARY:Die Altlasten der Pandemie – Long-Covid aus Sicht des Kardiologe
 n
DTSTART;TZID=Europe/Berlin:20230222T180000
DTEND;TZID=Europe/Berlin:20230222T200000
DTSTAMP:20260421T171919Z
UID:bd63ebb53858434da1364c481550c4b4@www.uni-marburg.de
ATTENDEE;CN="Prof. Dr. Bernhard Schieffer, Direktor der Klinik für Kardio
 logie, Angiologie und internistische Intensivmedizin am Universitätsklini
 kum Marburg";ROLE=REQ-PARTICIPANT:Prof. Dr. Bernhard Schieffer, Direktor d
 er Klinik für Kardiologie, Angiologie und internistische Intensivmedizin 
 am Universitätsklinikum Marburg
CREATED:20230221T071159Z
DESCRIPTION:https://www.uni-marburg.de/de/aktuelles/events/termine-1-quart
 al-2023/long-covid-buergervorlesung\nBürgervorlesung 2023
LAST-MODIFIED:20230221T071759Z
LOCATION:Hörsaalgebäude\,  Biegenstraße 14\, Audimax Raum +2/0010\, 350
 37 Marburg
URL:https://www.uni-marburg.de/de/aktuelles/events/termine-1-quartal-2023/
 long-covid-buergervorlesung
END:VEVENT
BEGIN:VTIMEZONE
TZID:Europe/Berlin
X-LIC-LOCATION:Europe/Berlin
BEGIN:STANDARD
DTSTART:20221030T020000
TZNAME:CET
TZOFFSETFROM:+0200
TZOFFSETTO:+0100
END:STANDARD
END:VTIMEZONE
END:VCALENDAR
