BEGIN:VCALENDAR
VERSION:2.0
PRODID:-//Plone.org//NONSGML plone.app.event//EN
X-WR-TIMEZONE:Europe/Berlin
BEGIN:VEVENT
SUMMARY:Verleihung der Hans-Hellmann-Lecture am Fachbereich Chemie
DTSTART;TZID=Europe/Berlin:20230111T171500
DTEND;TZID=Europe/Berlin:20230111T190000
DTSTAMP:20260424T172610Z
UID:7688361397d1477481e6cae6c12b4c31@www.uni-marburg.de
ATTENDEE;CN="Prof. Dr. Peter Schwerdtfeger, Direktor des Zentrums für The
 oretische Chemie und Physik an der Massey University Auckland in Neuseelan
 d";ROLE=REQ-PARTICIPANT:Prof. Dr. Peter Schwerdtfeger, Direktor des Zentru
 ms für Theoretische Chemie und Physik an der Massey University Auckland i
 n Neuseeland
CREATED:20230104T115207Z
DESCRIPTION:https://www.uni-marburg.de/de/aktuelles/events/termine-1-quart
 al-2023/verleihung-der-hans-hellmann-lecture-am-fachbereich-chemie\nProf. 
 Dr. Peter Schwerdtfeger von der Massey University Auckland in Neuseeland w
 ird für seine Forschung im Bereich der Quantenchemie geehrt. Vortrag zum 
 Thema: "When Gold meets Relativity"
LAST-MODIFIED:20230104T122307Z
LOCATION:Hörsaal C\, Hörsaalgebäude Lahnberge\,  Hans-Meerwein-Straße 
 8\, 35043 Marburg
URL:https://www.uni-marburg.de/de/aktuelles/events/termine-1-quartal-2023/
 verleihung-der-hans-hellmann-lecture-am-fachbereich-chemie
END:VEVENT
BEGIN:VTIMEZONE
TZID:Europe/Berlin
X-LIC-LOCATION:Europe/Berlin
BEGIN:STANDARD
DTSTART:20221030T020000
TZNAME:CET
TZOFFSETFROM:+0200
TZOFFSETTO:+0100
END:STANDARD
END:VTIMEZONE
END:VCALENDAR
