BEGIN:VCALENDAR
VERSION:2.0
PRODID:-//Plone.org//NONSGML plone.app.event//EN
X-WR-TIMEZONE:Europe/Berlin
BEGIN:VEVENT
SUMMARY:Semesterabschlusskonzert des Pop-Chor Marburg e. V.
DTSTART;TZID=Europe/Berlin:20260130T190000
DTSTAMP:20260421T110239Z
UID:63435edbe3d04895951004b510e11572@www.uni-marburg.de
CATEGORIES:()
CREATED:20260123T131901Z
DESCRIPTION:https://www.uni-marburg.de/de/aktuelles/events/termine-1-quart
 al-2026/semesterabschlusskonzert-des-pop-chor-marburg-e-v\n
LAST-MODIFIED:20260123T132123Z
LOCATION:Lutherische Pfarrkirche Marburg\, Lutherischer Kirchhof 1\, 35037
  Marburg
URL:https://www.uni-marburg.de/de/aktuelles/events/termine-1-quartal-2026/
 semesterabschlusskonzert-des-pop-chor-marburg-e-v
END:VEVENT
BEGIN:VTIMEZONE
TZID:Europe/Berlin
X-LIC-LOCATION:Europe/Berlin
BEGIN:STANDARD
DTSTART:20251026T020000
TZNAME:CET
TZOFFSETFROM:+0200
TZOFFSETTO:+0100
END:STANDARD
END:VTIMEZONE
END:VCALENDAR
