BEGIN:VCALENDAR
VERSION:2.0
PRODID:-//Plone.org//NONSGML plone.app.event//EN
X-WR-TIMEZONE:Europe/Berlin
BEGIN:VEVENT
SUMMARY:Semesterabschlusskonzert Studi BigBand Marburg
DTSTART;TZID=Europe/Berlin:20260206T200000
DTSTAMP:20260422T071920Z
UID:e1177be5b895466b8757e227aab1d3ad@www.uni-marburg.de
CATEGORIES:()
CREATED:20260119T150529Z
DESCRIPTION:https://www.uni-marburg.de/de/aktuelles/events/termine-1-quart
 al-2026/semesterabschlusskonzert-studi-bigband-marburg\n
LAST-MODIFIED:20260119T160428Z
LOCATION:KFZ Biegenstraße 13\, 35037 Marburg
URL:https://www.uni-marburg.de/de/aktuelles/events/termine-1-quartal-2026/
 semesterabschlusskonzert-studi-bigband-marburg
END:VEVENT
BEGIN:VTIMEZONE
TZID:Europe/Berlin
X-LIC-LOCATION:Europe/Berlin
BEGIN:STANDARD
DTSTART:20251026T020000
TZNAME:CET
TZOFFSETFROM:+0200
TZOFFSETTO:+0100
END:STANDARD
END:VTIMEZONE
END:VCALENDAR
