BEGIN:VCALENDAR
VERSION:2.0
PRODID:-//Plone.org//NONSGML plone.app.event//EN
X-WR-TIMEZONE:Europe/Berlin
BEGIN:VEVENT
SUMMARY:Semesterabschlusskonzerte des Studentischen Sinfonieorchesters (SS
 O)
DTSTART;TZID=Europe/Berlin:20260203T194500
DTSTAMP:20260420T144848Z
UID:670ab8bee1d841e08e72daa1b96f7277@www.uni-marburg.de
CATEGORIES:()
CREATED:20260115T140036Z
DESCRIPTION:https://www.uni-marburg.de/de/aktuelles/events/termine-1-quart
 al-2026/sso-2026-02-03\n
LAST-MODIFIED:20260115T140513Z
LOCATION:Lutherische Pfarrkirche\, Lutherischer Kirchhof 1\, 35037 Marburg
URL:https://www.uni-marburg.de/de/aktuelles/events/termine-1-quartal-2026/
 sso-2026-02-03
END:VEVENT
BEGIN:VTIMEZONE
TZID:Europe/Berlin
X-LIC-LOCATION:Europe/Berlin
BEGIN:STANDARD
DTSTART:20251026T020000
TZNAME:CET
TZOFFSETFROM:+0200
TZOFFSETTO:+0100
END:STANDARD
END:VTIMEZONE
END:VCALENDAR
