BEGIN:VCALENDAR
VERSION:2.0
PRODID:-//Plone.org//NONSGML plone.app.event//EN
X-WR-TIMEZONE:Europe/Berlin
BEGIN:VEVENT
SUMMARY:Semesterabschlusskonzerte des Marburger Universitätschors
DTSTART;TZID=Europe/Berlin:20260214T190000
DTSTAMP:20260419T100341Z
UID:233017cc26d04ad29bc6c478bdaf6aa0@www.uni-marburg.de
CATEGORIES:()
CREATED:20260202T170932Z
DESCRIPTION:https://www.uni-marburg.de/de/aktuelles/events/termine-1-quart
 al-2026/unichor-14-02\n
LAST-MODIFIED:20260202T171217Z
LOCATION:Universitätskirche\, Marburg
URL:https://www.uni-marburg.de/de/aktuelles/events/termine-1-quartal-2026/
 unichor-14-02
END:VEVENT
BEGIN:VTIMEZONE
TZID:Europe/Berlin
X-LIC-LOCATION:Europe/Berlin
BEGIN:STANDARD
DTSTART:20251026T020000
TZNAME:CET
TZOFFSETFROM:+0200
TZOFFSETTO:+0100
END:STANDARD
END:VTIMEZONE
END:VCALENDAR
