BEGIN:VCALENDAR
VERSION:2.0
PRODID:-//Plone.org//NONSGML plone.app.event//EN
X-WR-TIMEZONE:Europe/Berlin
BEGIN:VEVENT
SUMMARY:Betreuung Promovierender: Verantwortungen – Herausforderungen 
 – individuelle Wege FÄLLT LEIDER AUS
DTSTART;TZID=Europe/Berlin:20180516T170000
DTEND;TZID=Europe/Berlin:20180516T200000
DTSTAMP:20260425T004258Z
UID:de797e110d0c4ed2978e5e1c22944ae4@www.uni-marburg.de
ATTENDEE;CN="Dr. Ute Noack, Referat für Personalentwicklung";ROLE=REQ-PAR
 TICIPANT:Dr. Ute Noack, Referat für Personalentwicklung
CREATED:20170925T082839Z
DESCRIPTION:https://www.uni-marburg.de/de/aktuelles/events/termine-2-quart
 al-2018/160518_betreuung_promovierende\nWorkshop im Rahmen der Führungswe
 rkstatt für alle Promotionsbetreuende
LAST-MODIFIED:20180516T105537Z
LOCATION:B|03\, Senatssitzungssaal 003\, Biegenstr. 12
URL:https://www.uni-marburg.de/de/aktuelles/events/termine-2-quartal-2018/
 160518_betreuung_promovierende
END:VEVENT
BEGIN:VTIMEZONE
TZID:Europe/Berlin
X-LIC-LOCATION:Europe/Berlin
BEGIN:DAYLIGHT
DTSTART:20180325T030000
TZNAME:CEST
TZOFFSETFROM:+0100
TZOFFSETTO:+0200
END:DAYLIGHT
END:VTIMEZONE
END:VCALENDAR
