BEGIN:VCALENDAR
VERSION:2.0
PRODID:-//Plone.org//NONSGML plone.app.event//EN
X-WR-TIMEZONE:Europe/Berlin
BEGIN:VEVENT
SUMMARY:Informationsveranstaltung zu Rentenversicherungsfragen
DTSTART;TZID=Europe/Berlin:20180426T090000
DTEND;TZID=Europe/Berlin:20180426T110000
DTSTAMP:20260424T190852Z
UID:d9eb03570de24c679d105aefd4f0c6b4@www.uni-marburg.de
ATTENDEE;CN="Anja Jaeckel, DRV Hessen";ROLE=REQ-PARTICIPANT:Anja Jaeckel, 
 DRV Hessen
CREATED:20180125T145739Z
DESCRIPTION:https://www.uni-marburg.de/de/aktuelles/events/termine-2-quart
 al-2018/180426_rentenversicherung-1\nIn dieser Veranstaltung erhalten Sie 
 allgemeine Informationen bezüglich Rente\, Erwerbsminderungsrente etc. un
 d haben die Möglichkeit\, Fragen zu stellen.
LAST-MODIFIED:20180413T103712Z
LOCATION:B|01\, Hörsaalgebäude\, Biegenstr. 14\, Raum +1/0030
URL:https://www.uni-marburg.de/de/aktuelles/events/termine-2-quartal-2018/
 180426_rentenversicherung-1
END:VEVENT
BEGIN:VTIMEZONE
TZID:Europe/Berlin
X-LIC-LOCATION:Europe/Berlin
BEGIN:DAYLIGHT
DTSTART:20180325T030000
TZNAME:CEST
TZOFFSETFROM:+0100
TZOFFSETTO:+0200
END:DAYLIGHT
END:VTIMEZONE
END:VCALENDAR
