BEGIN:VCALENDAR
VERSION:2.0
PRODID:-//Plone.org//NONSGML plone.app.event//EN
X-WR-TIMEZONE:Europe/Berlin
BEGIN:VEVENT
SUMMARY:Beratung - Die Balance zwischen Anspruch und Wirklichkeit (Aufbaum
 odul)
DTSTART;TZID=Europe/Berlin:20180605T083000
DTEND;TZID=Europe/Berlin:20180605T130000
DTSTAMP:20260424T190602Z
UID:c0cba8b4da2340e8be059c225bc9d48f@www.uni-marburg.de
ATTENDEE;CN="Dorothea Eckardt, Stabsstelle Konfliktberatung und Prozessent
 wicklung (www.uni-marburg.de/kpr)";ROLE=REQ-PARTICIPANT:Dorothea Eckardt, 
 Stabsstelle Konfliktberatung und Prozessentwicklung (www.uni-marburg.de/kp
 r)
CREATED:20180302T092618Z
DESCRIPTION:https://www.uni-marburg.de/de/aktuelles/events/termine-2-quart
 al-2018/180605_beratung_vertiefung\nAufbaumodul: Kollegiale Beratung – a
 ls eine Methode zur Reflexion von Beratung und Führungsaufgaben. Insbeson
 dere für Teilnehmerinnen und Teilnehmer der Basismodule in 2015\, 2016 od
 er 2017.
LAST-MODIFIED:20180302T094527Z
LOCATION:B|01\, Hörsaalgebäude\, Biegenstr. 14\, Raum +02/0100
URL:https://www.uni-marburg.de/de/aktuelles/events/termine-2-quartal-2018/
 180605_beratung_vertiefung
END:VEVENT
BEGIN:VTIMEZONE
TZID:Europe/Berlin
X-LIC-LOCATION:Europe/Berlin
BEGIN:DAYLIGHT
DTSTART:20180325T030000
TZNAME:CEST
TZOFFSETFROM:+0100
TZOFFSETTO:+0200
END:DAYLIGHT
END:VTIMEZONE
END:VCALENDAR
