BEGIN:VCALENDAR
VERSION:2.0
PRODID:-//Plone.org//NONSGML plone.app.event//EN
X-WR-TIMEZONE:Europe/Berlin
BEGIN:VEVENT
SUMMARY:ENTFÄLLT: Interne Budgetierung der Philipps-Universität Marburg.
  Schwerpunkt: Budgetmodell der Fachbereiche.
DTSTART;TZID=Europe/Berlin:20180606T100000
DTEND;TZID=Europe/Berlin:20180606T120000
DTSTAMP:20260424T185717Z
UID:ad24a50bbd7e4669920e7e14044aba3a@www.uni-marburg.de
ATTENDEE;CN="Bernshausen, Peter (Dez V A 2 - Referat für Interne Budgetpl
 anung und Kontrolle)";ROLE=REQ-PARTICIPANT:Bernshausen, Peter (Dez V A 2 -
  Referat für Interne Budgetplanung und Kontrolle)
ATTENDEE;CN="Lotz Dr., Anja (Stabsstelle Strategisches Controlling und Hoc
 hschulbudgetierung)";ROLE=REQ-PARTICIPANT:Lotz Dr., Anja (Stabsstelle Stra
 tegisches Controlling und Hochschulbudgetierung)
CREATED:20180125T145739Z
DESCRIPTION:https://www.uni-marburg.de/de/aktuelles/events/termine-2-quart
 al-2018/180606_budgetierenfb-1\nZielgruppe: \nMitarbeiter/innen der Dekana
 te\, Wirtschaftsverwaltungen
LAST-MODIFIED:20180604T084310Z
LOCATION:B | 03\, Biegenstrasse 12\, 125 (PC-Schulungsraum 125)
URL:https://www.uni-marburg.de/de/aktuelles/events/termine-2-quartal-2018/
 180606_budgetierenfb-1
END:VEVENT
BEGIN:VTIMEZONE
TZID:Europe/Berlin
X-LIC-LOCATION:Europe/Berlin
BEGIN:DAYLIGHT
DTSTART:20180325T030000
TZNAME:CEST
TZOFFSETFROM:+0100
TZOFFSETTO:+0200
END:DAYLIGHT
END:VTIMEZONE
END:VCALENDAR
