BEGIN:VCALENDAR
VERSION:2.0
PRODID:-//Plone.org//NONSGML plone.app.event//EN
X-WR-TIMEZONE:Europe/Berlin
BEGIN:VEVENT
SUMMARY:Selbstpräsentation - Selbstbewusstes Auftreten im Tutorium
DTSTART;TZID=Europe/Berlin:20180607T101500
DTEND;TZID=Europe/Berlin:20180607T170000
DTSTAMP:20260424T173053Z
UID:a9748d61a776400383daa31deec3f963@www.uni-marburg.de
ATTENDEE;CN="Dr. Katja Franz, Sprech- und Medienwissenschaftlerin; Dozenti
 n und Coach für die Bereiche Kommunikation, Bewerbung und Studium; Lehrbe
 auftragte AG Sprechwissenschaft";ROLE=REQ-PARTICIPANT:Dr. Katja Franz, Spr
 ech- und Medienwissenschaftlerin; Dozentin und Coach für die Bereiche Kom
 munikation, Bewerbung und Studium; Lehrbeauftragte AG Sprechwissenschaft
CREATED:20170825T130128Z
DESCRIPTION:https://www.uni-marburg.de/de/aktuelles/events/termine-2-quart
 al-2018/18fit04\nWorkshop im Rahmen des Wahlpflichtmoduls des FIT-Programm
 s für studentische Tutor/innen und Mentor/innen
LAST-MODIFIED:20170825T130138Z
LOCATION:Philipps-Universität Marburg\, Deutschhausstr. 11+13\; +01.0010\
 , 35032 Marburg (Lahn)
URL:https://www.uni-marburg.de/de/aktuelles/events/termine-2-quartal-2018/
 18fit04
END:VEVENT
BEGIN:VTIMEZONE
TZID:Europe/Berlin
X-LIC-LOCATION:Europe/Berlin
BEGIN:DAYLIGHT
DTSTART:20180325T030000
TZNAME:CEST
TZOFFSETFROM:+0100
TZOFFSETTO:+0200
END:DAYLIGHT
END:VTIMEZONE
END:VCALENDAR
