BEGIN:VCALENDAR
VERSION:2.0
PRODID:-//Plone.org//NONSGML plone.app.event//EN
X-WR-TIMEZONE:Europe/Berlin
BEGIN:VEVENT
SUMMARY:Der Unichor sucht neue Sängerinnen und Sänger
DTSTART;TZID=Europe/Berlin:20180409T140000
DTEND;TZID=Europe/Berlin:20180409T180000
DTSTAMP:20260424T122158Z
UID:289c7bb26739455eb21d1aaccf251213@www.uni-marburg.de
CREATED:20180219T075619Z
DESCRIPTION:https://www.uni-marburg.de/de/aktuelles/events/termine-2-quart
 al-2018/18ss-vorsingen1\nVorsingen des Unichors
LAST-MODIFIED:20180219T075716Z
LOCATION:Musizierhaus im Alten Botanischen Garten
URL:https://www.uni-marburg.de/de/aktuelles/events/termine-2-quartal-2018/
 18ss-vorsingen1
END:VEVENT
BEGIN:VTIMEZONE
TZID:Europe/Berlin
X-LIC-LOCATION:Europe/Berlin
BEGIN:DAYLIGHT
DTSTART:20180325T030000
TZNAME:CEST
TZOFFSETFROM:+0100
TZOFFSETTO:+0200
END:DAYLIGHT
END:VTIMEZONE
END:VCALENDAR
