BEGIN:VCALENDAR
VERSION:2.0
PRODID:-//Plone.org//NONSGML plone.app.event//EN
X-WR-TIMEZONE:Europe/Berlin
BEGIN:VEVENT
SUMMARY:Die Pflanzen der Klostergärten
DTSTART;TZID=Europe/Berlin:20180412T143000
DTSTAMP:20260424T132113Z
UID:af87a420c4c545be89b13ec10d730225@www.uni-marburg.de
ATTENDEE;CN="Prof. Dr. Michael Keusgen, Philipps-Universität Marburg, FB 
 Pharmazie";ROLE=REQ-PARTICIPANT:Prof. Dr. Michael Keusgen, Philipps-Univer
 sität Marburg, FB Pharmazie
CREATED:20171025T112008Z
DESCRIPTION:https://www.uni-marburg.de/de/aktuelles/events/termine-2-quart
 al-2018/2018-04-12\nUnibund-Vortrag: "Die Pflanzen der Klostergärten"
LAST-MODIFIED:20171025T112632Z
LOCATION:Kirchhain\, Bürgerhaus\, Schulstraße 4
URL:https://www.uni-marburg.de/de/aktuelles/events/termine-2-quartal-2018/
 2018-04-12
END:VEVENT
BEGIN:VTIMEZONE
TZID:Europe/Berlin
X-LIC-LOCATION:Europe/Berlin
BEGIN:DAYLIGHT
DTSTART:20180325T030000
TZNAME:CEST
TZOFFSETFROM:+0100
TZOFFSETTO:+0200
END:DAYLIGHT
END:VTIMEZONE
END:VCALENDAR
