BEGIN:VCALENDAR
VERSION:2.0
PRODID:-//Plone.org//NONSGML plone.app.event//EN
X-WR-TIMEZONE:Europe/Berlin
BEGIN:VEVENT
SUMMARY:Hortus Medicus
DTSTART;VALUE=DATE:20180609
DTEND;VALUE=DATE:20180610
DTSTAMP:20260424T172207Z
UID:cc45527659164f4381d0da7bf22cb0ee@www.uni-marburg.de
CREATED:20180606T112155Z
DESCRIPTION:https://www.uni-marburg.de/de/aktuelles/events/termine-2-quart
 al-2018/20180609\nWoche der Botanischen Gärten mit dem Thema: Die grüne 
 Apotheke\, vom Hortus Medicus zur Pharmaforschung
LAST-MODIFIED:20180611T062828Z
LOCATION:Botanischer Garten\, Lahnberge
URL:https://www.uni-marburg.de/de/aktuelles/events/termine-2-quartal-2018/
 20180609
END:VEVENT
END:VCALENDAR
