BEGIN:VCALENDAR
VERSION:2.0
PRODID:-//Plone.org//NONSGML plone.app.event//EN
X-WR-TIMEZONE:Europe/Berlin
BEGIN:VEVENT
SUMMARY:Natur\, Umwelt\, Müll: Bezüge und Praxen im gegenwärtigen Indon
 esien
DTSTART;TZID=Europe/Berlin:20180426T181500
DTEND;TZID=Europe/Berlin:20180426T194500
DTSTAMP:20260424T190530Z
UID:764ec9ce3cac477f9061b0508a44562c@www.uni-marburg.de
ATTENDEE;CN="Prof. Dr. Judith Schlehe, Institut für Ethnologie, Albert-Lu
 dwigs-Universität Freiburg";ROLE=REQ-PARTICIPANT:Prof. Dr. Judith Schlehe
 , Institut für Ethnologie, Albert-Ludwigs-Universität Freiburg
CREATED:20180216T100238Z
DESCRIPTION:https://www.uni-marburg.de/de/aktuelles/events/termine-2-quart
 al-2018/anthrolabjudithschlehe\nVortrag in der Reihe AnthroLab
LAST-MODIFIED:20180216T100521Z
LOCATION:Deutschhausstraße 3\, Hörsaal\, 1. OG
URL:https://www.uni-marburg.de/de/aktuelles/events/termine-2-quartal-2018/
 anthrolabjudithschlehe
END:VEVENT
BEGIN:VTIMEZONE
TZID:Europe/Berlin
X-LIC-LOCATION:Europe/Berlin
BEGIN:DAYLIGHT
DTSTART:20180325T030000
TZNAME:CEST
TZOFFSETFROM:+0100
TZOFFSETTO:+0200
END:DAYLIGHT
END:VTIMEZONE
END:VCALENDAR
