BEGIN:VCALENDAR
VERSION:2.0
PRODID:-//Plone.org//NONSGML plone.app.event//EN
X-WR-TIMEZONE:Europe/Berlin
BEGIN:VEVENT
SUMMARY:Johan Adrian Jacobsen – Sammler für das Königliche Museum für
  Völkerkunde Berlin
DTSTART;TZID=Europe/Berlin:20180607T181500
DTEND;TZID=Europe/Berlin:20180607T194500
DTSTAMP:20260424T173002Z
UID:6ac1e97ac0ec4d22ba3612c84ec617ba@www.uni-marburg.de
ATTENDEE;CN="Dr. Peter Bolz, Ethnologisches Museum der Staatlichen Museen 
 zu Berlin";ROLE=REQ-PARTICIPANT:Dr. Peter Bolz, Ethnologisches Museum der 
 Staatlichen Museen zu Berlin
CREATED:20180216T100238Z
DESCRIPTION:https://www.uni-marburg.de/de/aktuelles/events/termine-2-quart
 al-2018/anthrolabpeterbolz\nVortrag in der Reihe AnthroLab
LAST-MODIFIED:20180216T100727Z
LOCATION:Deutschhausstraße 3\, Hörsaal\, 1. OG
URL:https://www.uni-marburg.de/de/aktuelles/events/termine-2-quartal-2018/
 anthrolabpeterbolz
END:VEVENT
BEGIN:VTIMEZONE
TZID:Europe/Berlin
X-LIC-LOCATION:Europe/Berlin
BEGIN:DAYLIGHT
DTSTART:20180325T030000
TZNAME:CEST
TZOFFSETFROM:+0100
TZOFFSETTO:+0200
END:DAYLIGHT
END:VTIMEZONE
END:VCALENDAR
