BEGIN:VCALENDAR
VERSION:2.0
PRODID:-//Plone.org//NONSGML plone.app.event//EN
X-WR-TIMEZONE:Europe/Berlin
BEGIN:VEVENT
SUMMARY:Armut grenzt aus - Ausgrenzung ist aber kein Schicksal!
DTSTART;TZID=Europe/Berlin:20180425T201500
DTEND;TZID=Europe/Berlin:20180425T214500
DTSTAMP:20260425T055650Z
UID:b8ee24a94b6a48b794dc41064303f926@www.uni-marburg.de
ATTENDEE;CN="Prof. Dr. Ernst-Ulrich Huster";ROLE=REQ-PARTICIPANT:Prof. Dr.
  Ernst-Ulrich Huster
CREATED:20180215T141458Z
DESCRIPTION:https://www.uni-marburg.de/de/aktuelles/events/termine-2-quart
 al-2018/armut-kein-schicksal\nStudium Generale im SoSe 2018 an der Philipp
 s-Universität Marburg
LAST-MODIFIED:20180215T142406Z
LOCATION:Audimax\, Hörsaalgebäude\, Biegenstr. 14
URL:https://www.uni-marburg.de/de/aktuelles/events/termine-2-quartal-2018/
 armut-kein-schicksal
END:VEVENT
BEGIN:VTIMEZONE
TZID:Europe/Berlin
X-LIC-LOCATION:Europe/Berlin
BEGIN:DAYLIGHT
DTSTART:20180325T030000
TZNAME:CEST
TZOFFSETFROM:+0100
TZOFFSETTO:+0200
END:DAYLIGHT
END:VTIMEZONE
END:VCALENDAR
