BEGIN:VCALENDAR
VERSION:2.0
PRODID:-//Plone.org//NONSGML plone.app.event//EN
X-WR-TIMEZONE:Europe/Berlin
BEGIN:VEVENT
SUMMARY:Autorität - Zur Analyse eines ambivalenten Phänomens
DTSTART;TZID=Europe/Berlin:20180418T201500
DTEND;TZID=Europe/Berlin:20180418T214500
DTSTAMP:20260424T190613Z
UID:d7128c47b4a84ca8b21bd9ccd13aea7b@www.uni-marburg.de
ATTENDEE;CN="Prof. Dr. Roland Reichenbach";ROLE=REQ-PARTICIPANT:Prof. Dr. 
 Roland Reichenbach
CREATED:20180215T141458Z
DESCRIPTION:https://www.uni-marburg.de/de/aktuelles/events/termine-2-quart
 al-2018/autoritaet\nStudium Generale im SoSe 2018 an der Philipps-Universi
 tät Marburg
LAST-MODIFIED:20180215T142129Z
LOCATION:Audimax\, Hörsaalgebäude\, Biegenstr. 14
URL:https://www.uni-marburg.de/de/aktuelles/events/termine-2-quartal-2018/
 autoritaet
END:VEVENT
BEGIN:VTIMEZONE
TZID:Europe/Berlin
X-LIC-LOCATION:Europe/Berlin
BEGIN:DAYLIGHT
DTSTART:20180325T030000
TZNAME:CEST
TZOFFSETFROM:+0100
TZOFFSETTO:+0200
END:DAYLIGHT
END:VTIMEZONE
END:VCALENDAR
