BEGIN:VCALENDAR
VERSION:2.0
PRODID:-//Plone.org//NONSGML plone.app.event//EN
X-WR-TIMEZONE:Europe/Berlin
BEGIN:VEVENT
SUMMARY:Kann Bewegung Bildung sein? Körperlichkeit als kulturelle Herausf
 orderung
DTSTART;TZID=Europe/Berlin:20180627T201500
DTEND;TZID=Europe/Berlin:20180627T214500
DTSTAMP:20260425T014527Z
UID:e354d70f33114447a06363e239634871@www.uni-marburg.de
ATTENDEE;CN="Prof. Dr. Elk Franke";ROLE=REQ-PARTICIPANT:Prof. Dr. Elk Fran
 ke
CREATED:20180215T141458Z
DESCRIPTION:https://www.uni-marburg.de/de/aktuelles/events/termine-2-quart
 al-2018/bewegung-bildung\nStudium Generale im SoSe 2018 an der Philipps-Un
 iversität Marburg
LAST-MODIFIED:20180215T141541Z
LOCATION:Audimax\, Hörsaalgebäude\, Biegenstr. 14
URL:https://www.uni-marburg.de/de/aktuelles/events/termine-2-quartal-2018/
 bewegung-bildung
END:VEVENT
BEGIN:VTIMEZONE
TZID:Europe/Berlin
X-LIC-LOCATION:Europe/Berlin
BEGIN:DAYLIGHT
DTSTART:20180325T030000
TZNAME:CEST
TZOFFSETFROM:+0100
TZOFFSETTO:+0200
END:DAYLIGHT
END:VTIMEZONE
END:VCALENDAR
