BEGIN:VCALENDAR
VERSION:2.0
PRODID:-//Plone.org//NONSGML plone.app.event//EN
X-WR-TIMEZONE:Europe/Berlin
BEGIN:VEVENT
SUMMARY:Buchvorstellung: "Marburger Rathaus und Nationalsozialismus"
DTSTART;TZID=Europe/Berlin:20180507T180000
DTEND;TZID=Europe/Berlin:20180507T200000
DTSTAMP:20260424T165828Z
UID:7f005a5e3c4241f3bc03940825b00324@www.uni-marburg.de
ATTENDEE;CN="Prof. Dr. Eckart Conze, Dirk Stolper, Sarah Wilder, Alexander
  Cramer";ROLE=REQ-PARTICIPANT:Prof. Dr. Eckart Conze, Dirk Stolper, Sarah 
 Wilder, Alexander Cramer
CREATED:20180502T085317Z
DESCRIPTION:https://www.uni-marburg.de/de/aktuelles/events/termine-2-quart
 al-2018/buchvorstellung-marburger-rathaus-und-nationalsozialismus\nAm 7. M
 ai stellen die Marburger Zeithistoriker/innen Prof. Eckart Conze\, Dirk St
 olper\, Sarah Wilder und Alexander Cramer ihr Werk "Marburger Rathaus und 
 Nationalsozialismus" vor.
LAST-MODIFIED:20180502T085501Z
LOCATION:Historischer Saal des Rathauses\, Markt 1\, 35037 Marburg
URL:https://www.uni-marburg.de/de/aktuelles/events/termine-2-quartal-2018/
 buchvorstellung-marburger-rathaus-und-nationalsozialismus
END:VEVENT
BEGIN:VTIMEZONE
TZID:Europe/Berlin
X-LIC-LOCATION:Europe/Berlin
BEGIN:DAYLIGHT
DTSTART:20180325T030000
TZNAME:CEST
TZOFFSETFROM:+0100
TZOFFSETTO:+0200
END:DAYLIGHT
END:VTIMEZONE
END:VCALENDAR
