BEGIN:VCALENDAR
VERSION:2.0
PRODID:-//Plone.org//NONSGML plone.app.event//EN
X-WR-TIMEZONE:Europe/Berlin
BEGIN:VEVENT
SUMMARY:Der Unichor sucht neue Sängerinnen und Sänger
DTSTART;TZID=Europe/Berlin:20180410T140000
DTEND;TZID=Europe/Berlin:20180410T180000
DTSTAMP:20260421T223507Z
UID:17bfdd6a24d84aa9bfa64b3e0ef00b52@www.uni-marburg.de
CREATED:20180219T075619Z
DESCRIPTION:https://www.uni-marburg.de/de/aktuelles/events/termine-2-quart
 al-2018/copy_of_18ss-vorsingen1\nVorsingen des Unichors
LAST-MODIFIED:20180219T075816Z
LOCATION:Musizierhaus im Alten Botanischen Garten
URL:https://www.uni-marburg.de/de/aktuelles/events/termine-2-quartal-2018/
 copy_of_18ss-vorsingen1
END:VEVENT
BEGIN:VTIMEZONE
TZID:Europe/Berlin
X-LIC-LOCATION:Europe/Berlin
BEGIN:DAYLIGHT
DTSTART:20180325T030000
TZNAME:CEST
TZOFFSETFROM:+0100
TZOFFSETTO:+0200
END:DAYLIGHT
END:VTIMEZONE
END:VCALENDAR
